BEGIN:VCALENDAR
VERSION:2.0
PRODID:-//Squarespace Inc/Squarespace 6//v6//EN
BEGIN:VEVENT
UID:59aa591c3e00bebf33bbc9b5@squarespace.com
DTSTAMP:20170902T070939Z
DTSTART:20170905T223000Z
DTEND:20170906T000000Z
SUMMARY:Following Jesus Discipleship Course
GEO:-41.213552;174.9305
LOCATION:224 Waiwhetu Road\, Lower Hutt\, Wellington\, 5011\, New Zealand
END:VEVENT
END:VCALENDAR
