BEGIN:VCALENDAR
VERSION:2.0
PRODID:-//Squarespace Inc/Squarespace 6//v6//EN
BEGIN:VEVENT
UID:5947a1abcd0f681e7eeea4a8@squarespace.com
DTSTAMP:20170619T100847Z
DTSTART:20170623T103000Z
DTEND:20170623T120000Z
SUMMARY:Men's Breakfast Bible Study
GEO:-41.207233;174.907648
LOCATION:McDonalds\, 338 High Street\, Lower Hutt\, Wellington\, 5010\, New 
 Zealand
END:VEVENT
END:VCALENDAR
