BEGIN:VCALENDAR
VERSION:2.0
PRODID:-//Squarespace Inc/Squarespace 6//v6//EN
BEGIN:VEVENT
UID:5962fe28725e2528fa6b8e02@squarespace.com
DTSTAMP:20170726T054655Z
DTSTART:20170728T103000Z
DTEND:20170728T120000Z
SUMMARY:Men's Breakfast Bible Study
GEO:-41.207233;174.907648
LOCATION:McDonalds\, 338 High Street\, Lower Hutt\, Wellington\, 5010\, New 
 Zealand
END:VEVENT
END:VCALENDAR
