BEGIN:VCALENDAR
VERSION:2.0
PRODID:-//Squarespace Inc/Squarespace 6//v6//EN
BEGIN:VEVENT
UID:5947a1c9be65940bfeebf352@squarespace.com
DTSTAMP:20170626T090447Z
DTSTART:20170625T140000Z
DTEND:20170625T153000Z
SUMMARY:Sunday Worship Experience
GEO:-41.178706;174.959979
LOCATION:Walter Nash Centre\, Trocker Street\, Lower Hutt\, Wellington\, 50
 11\, New Zealand
END:VEVENT
END:VCALENDAR
