BEGIN:VCALENDAR
VERSION:2.0
PRODID:-//Squarespace Inc/Squarespace 6//v6//EN
BEGIN:VEVENT
UID:5950ce2fb8a79b4b8f68dd8f@squarespace.com
DTSTAMP:20170710T041117Z
DTSTART:20170702T140000Z
DTEND:20170702T153000Z
SUMMARY:Sunday Worship Experience
GEO:-41.201971;174.935331
LOCATION:Dyer Street School\, 9 Dyer Street\, Lower Hutt\, Wellington\, 501
 1\, New Zealand
END:VEVENT
END:VCALENDAR
