BEGIN:VCALENDAR
VERSION:2.0
PRODID:-//Squarespace Inc/Squarespace 6//v6//EN
BEGIN:VEVENT
UID:5962fe6578d1713e2d180590@squarespace.com
DTSTAMP:20170814T090044Z
DTSTART:20170820T140000Z
DTEND:20170820T153000Z
SUMMARY:Sunday Worship Experience
GEO:-41.201971;174.935331
LOCATION:Dyer Street School\, 9 Dyer Street\, Lower Hutt\, Wellington\, 501
 1\, New Zealand
END:VEVENT
END:VCALENDAR
