BEGIN:VCALENDAR
VERSION:2.0
PRODID:-//Squarespace Inc/Squarespace 6//v6//EN
BEGIN:VEVENT
UID:59d34e009f7456b49d4d4f2f@squarespace.com
DTSTAMP:20171012T074057Z
DTSTART:20171015T140000Z
DTEND:20171015T153000Z
SUMMARY:Sunday Worship Experience
GEO:-41.201971;174.935331
LOCATION:Dyer Street School\, 9 Dyer Street\, Lower Hutt\, Wellington\, 501
 1\, New Zealand
END:VEVENT
END:VCALENDAR
