BEGIN:VCALENDAR
VERSION:2.0
PRODID:-//Squarespace Inc/Squarespace 6//v6//EN
BEGIN:VEVENT
UID:58b49a01d482e9ffcdc9ec81@squarespace.com
DTSTAMP:20170402T064923Z
DTSTART:20170403T230000Z
DTEND:20170404T010000Z
SUMMARY:Prayer // Connection
GEO:-41.213552;174.9305
LOCATION:224 Waiwhetu Road\, Lower Hutt\, Wellington\, 5011\, New Zealand
END:VEVENT
END:VCALENDAR
