BEGIN:VCALENDAR
VERSION:2.0
PRODID:-//Squarespace Inc/Squarespace 6//v6//EN
BEGIN:VEVENT
UID:59916664893fc0867d906e0e@squarespace.com
DTSTAMP:20170814T085933Z
DTSTART:20170816T000000Z
DTEND:20170816T010000Z
SUMMARY:Prayer // Connection
GEO:-41.213552;174.9305
LOCATION:224 Waiwhetu Road\, Lower Hutt\, Wellington\, 5011\, New Zealand
END:VEVENT
END:VCALENDAR
