BEGIN:VCALENDAR
VERSION:2.0
PRODID:-//Squarespace Inc/Squarespace 6//v6//EN
BEGIN:VEVENT
UID:59d34f3512abd9eb66272ace@squarespace.com
DTSTAMP:20171003T085237Z
DTSTART:20171011T000000Z
DTEND:20171011T010000Z
SUMMARY:Prayer // Connection
GEO:-41.213552;174.9305
LOCATION:224 Waiwhetu Road\, Lower Hutt\, Wellington\, 5011\, New Zealand
END:VEVENT
END:VCALENDAR
