BEGIN:VCALENDAR
VERSION:2.0
PRODID:-//Squarespace Inc/Squarespace 6//v6//EN
BEGIN:VEVENT
UID:58b499f1414fb5c14ee27920@squarespace.com
DTSTAMP:20170307T094940Z
DTSTART:20170309T000000Z
DTEND:20170309T020000Z
SUMMARY:Prayer // Connection
GEO:-41.213552;174.9305
LOCATION:224 Waiwhetu Road\, Lower Hutt\, Wellington\, 5011\, New Zealand
END:VEVENT
END:VCALENDAR
