BEGIN:VCALENDAR
VERSION:2.0
PRODID:-//Squarespace Inc/Squarespace 6//v6//EN
BEGIN:VEVENT
UID:58be81dcd2b857325396a3f5@squarespace.com
DTSTAMP:20170307T094915Z
DTSTART:20170322T230000Z
DTEND:20170323T010000Z
SUMMARY:Prayer // Connection
GEO:-41.213552;174.9305
LOCATION:224 Waiwhetu Road\, Lower Hutt\, Wellington\, 5011\, New Zealand
END:VEVENT
END:VCALENDAR
