BEGIN:VCALENDAR
VERSION:2.0
PRODID:-//Squarespace Inc/Squarespace 6//v6//EN
BEGIN:VEVENT
UID:58b49981bf629a73bf26c9cb@squarespace.com
DTSTAMP:20170314T024121Z
DTSTART:20170319T200000Z
DTEND:20170319T210000Z
SUMMARY:Interest Gathering
GEO:-41.179217;174.958966
LOCATION:Walter Nash Centre\, Korimako room\, 22 Taine Street\, Lower Hutt\
 , Wellington\, 5011\, New Zealand
END:VEVENT
END:VCALENDAR
